BEGIN:VCALENDAR
VERSION:2.0
PRODID:-//Maleny District Sport and Recreation Club Inc - ECPv6.15.18//NONSGML v1.0//EN
CALSCALE:GREGORIAN
METHOD:PUBLISH
X-ORIGINAL-URL:https://malenysportandrec.org.au
X-WR-CALDESC:Events for Maleny District Sport and Recreation Club Inc
REFRESH-INTERVAL;VALUE=DURATION:PT1H
X-Robots-Tag:noindex
X-PUBLISHED-TTL:PT1H
BEGIN:VTIMEZONE
TZID:Australia/Melbourne
BEGIN:STANDARD
TZOFFSETFROM:+1100
TZOFFSETTO:+1000
TZNAME:AEST
DTSTART:20180331T160000
END:STANDARD
BEGIN:DAYLIGHT
TZOFFSETFROM:+1000
TZOFFSETTO:+1100
TZNAME:AEDT
DTSTART:20181006T160000
END:DAYLIGHT
BEGIN:STANDARD
TZOFFSETFROM:+1100
TZOFFSETTO:+1000
TZNAME:AEST
DTSTART:20190406T160000
END:STANDARD
BEGIN:DAYLIGHT
TZOFFSETFROM:+1000
TZOFFSETTO:+1100
TZNAME:AEDT
DTSTART:20191005T160000
END:DAYLIGHT
BEGIN:STANDARD
TZOFFSETFROM:+1100
TZOFFSETTO:+1000
TZNAME:AEST
DTSTART:20200404T160000
END:STANDARD
BEGIN:DAYLIGHT
TZOFFSETFROM:+1000
TZOFFSETTO:+1100
TZNAME:AEDT
DTSTART:20201003T160000
END:DAYLIGHT
BEGIN:STANDARD
TZOFFSETFROM:+1100
TZOFFSETTO:+1000
TZNAME:AEST
DTSTART:20210403T160000
END:STANDARD
BEGIN:DAYLIGHT
TZOFFSETFROM:+1000
TZOFFSETTO:+1100
TZNAME:AEDT
DTSTART:20211002T160000
END:DAYLIGHT
BEGIN:STANDARD
TZOFFSETFROM:+1100
TZOFFSETTO:+1000
TZNAME:AEST
DTSTART:20220402T160000
END:STANDARD
BEGIN:DAYLIGHT
TZOFFSETFROM:+1000
TZOFFSETTO:+1100
TZNAME:AEDT
DTSTART:20221001T160000
END:DAYLIGHT
END:VTIMEZONE
BEGIN:VEVENT
DTSTART;TZID=Australia/Melbourne:20210911T150000
DTEND;TZID=Australia/Melbourne:20210911T180000
DTSTAMP:20260421T220314
CREATED:20210615T050435Z
LAST-MODIFIED:20210615T050435Z
UID:3856-1631372400-1631383200@malenysportandrec.org.au
SUMMARY:Welcome to Maleny
DESCRIPTION:High tea on the lawn! Enjoy a fabulous afternoon tea with wine and good company and hear some guest speakers tell tales about life in Maleny. More details coming!
URL:https://malenysportandrec.org.au/event/welcome-to-maleny/
LOCATION:Maleny District Sport & Rec Club Clubhouse\, Parklands Drive\, Maleny Community Precinct\, Queensland\, 4552\, Australia
CATEGORIES:community event,Fund Raiser,Heritage
ATTACH;FMTTYPE=image/jpeg:https://malenysportandrec.org.au/wp-content/uploads/2021/06/welcome-to-Maleny-sign.jpg
END:VEVENT
BEGIN:VEVENT
DTSTART;TZID=Australia/Melbourne:20210828T090000
DTEND;TZID=Australia/Melbourne:20210828T170000
DTSTAMP:20260421T220314
CREATED:20210320T025742Z
LAST-MODIFIED:20210320T025742Z
UID:3775-1630141200-1630170000@malenysportandrec.org.au
SUMMARY:Kevin Howell Open Day
DESCRIPTION:The Maleny Historical Society\, Mens Shed and the Blackall Range Horseless Carriage Club join forces to bring you a wonderful day out at Maleny’s Pioneer Village. \nBryce Cottage\, Priscilla Cottage and Glenferna will all be open with their marvellous displays of Maleny’s past. \nEnjoy a tea and coffee with home made cakes\, slices and more and the barbecue will be on. \nEntry by donation.
URL:https://malenysportandrec.org.au/event/kevin-howell-open-day/
LOCATION:Maleny Pioneer Village\, 7\, Bryce Lane\, Maleny\, Qld\, 4552\, Australia
CATEGORIES:Car Show,community event,Educational,Fund Raiser,Heritage,Music,Tourism
ATTACH;FMTTYPE=image/jpeg:https://malenysportandrec.org.au/wp-content/uploads/2021/03/historical-society-home-picture.jpg
ORGANIZER;CN="Maleny Cultural and Historical Society Inc":MAILTO:infomhs@iinet.net.au
END:VEVENT
BEGIN:VEVENT
DTSTART;TZID=Australia/Melbourne:20210807T180000
DTEND;TZID=Australia/Melbourne:20210807T223000
DTSTAMP:20260421T220314
CREATED:20210615T044025Z
LAST-MODIFIED:20210615T044025Z
UID:3838-1628359200-1628375400@malenysportandrec.org.au
SUMMARY:Drag Queen Bingo!
DESCRIPTION:Have a ball dropping good time with Melony Brests and know that you are supporting the charity Beyond Blue – all funds donated to them. The RSL bar will be open – so get dressed up for the night\, pop on down and then  it’s eyes down looking! \n  \nTickets $25.00  from ticketebo.com.au/bingo4beyondblue
URL:https://malenysportandrec.org.au/event/drag-queen-bingo/
LOCATION:Maleny RSL\, 1 Bunya Street\, Maleny\, Qld\, 4552\, Australia
CATEGORIES:Fund Raiser,Music,Theatre
ATTACH;FMTTYPE=image/jpeg:https://malenysportandrec.org.au/wp-content/uploads/2021/06/drag-queen-bingo-scaled.jpg
END:VEVENT
BEGIN:VEVENT
DTSTART;TZID=Australia/Melbourne:20210729T100000
DTEND;TZID=Australia/Melbourne:20210729T113000
DTSTAMP:20260421T220314
CREATED:20210621T030516Z
LAST-MODIFIED:20210621T030516Z
UID:3870-1627552800-1627558200@malenysportandrec.org.au
SUMMARY:Friendship Morning Tea
DESCRIPTION:Meet you Over a Cuppa! \n\n\n\nPlease join us for a ‘Friendship Morning Tea’ with the Maleny Hospital Auxiliary\, on Thursday 29 July\, 10am at the Verandah Room\, Maleny Community Centre. Open to everyone – feel free to bring a friend\, or perhaps someone new to Maleny. Devonshire morning tea/coffee $10 per person. Bookings at Rosetta Books (cash only) or at Hospital Auxiliary meetings or phone 5435 2134 and direct deposit. We hope to see you there!
URL:https://malenysportandrec.org.au/event/friendship-morning-tea/
LOCATION:Maleny Community Centre Veranda Room\, 23 Maple St\, Maleny\, Qld\, 4552\, Australia
CATEGORIES:community event,Fund Raiser,Morning tea
ATTACH;FMTTYPE=image/jpeg:https://malenysportandrec.org.au/wp-content/uploads/2021/06/tea-and-scone.jpg
END:VEVENT
BEGIN:VEVENT
DTSTART;TZID=Australia/Melbourne:20210612T080000
DTEND;TZID=Australia/Melbourne:20210612T170000
DTSTAMP:20260421T220314
CREATED:20210320T021102Z
LAST-MODIFIED:20210614T024038Z
UID:3752-1623484800-1623517200@malenysportandrec.org.au
SUMMARY:CANCELLED - Gardening on the Edge
DESCRIPTION:Gardening on the Edge\, an event hosted by the Maleny Garden Club\, is returning in 2021! Five beautiful gardens will be open on the June 12 and 13 weekend\, as well as a plant fair at Maleny Showground. The fair will have a wide range of plants for sale\, garden decor\, pottery and tools\, as well as delicious food . Entry to the fair is free on both days. \nThe events will comply with COVID requirements. \n\nCLICK HERE to access our first flyer. Share it with gardening friends!\n\nNumerous plant and product stalls at the fair will offer a wide range of species and ensure there is a plant suitable for every garden. Local produce will also available at the fair. Juicy pineapples were a big hit at the last event and sold quickly. For the first time\, one of the gardens will feature a display of sculptures. This will be curated by local arts identities Kevin and Jennifer Radbourne. Pottery for sale usually features at one of the gardens as well.\nThere is a small fee for entry to the gardens. Funds are raised to assist community groups in Maleny and the district.\n\nDidn’t we miss these opportunities last year!\n\n\nWatch for future updates on our website and Facebook page.
URL:https://malenysportandrec.org.au/event/gardening-on-the-edge-2/
LOCATION:Maleny Showgrounds Main Pavilion\, Australia
CATEGORIES:community event,Educational,Fund Raiser,Gardening,Market,Tourism
ATTACH;FMTTYPE=image/jpeg:https://malenysportandrec.org.au/wp-content/uploads/2019/02/event-gardenonedge.jpg
END:VEVENT
BEGIN:VEVENT
DTSTART;VALUE=DATE:20210528
DTEND;VALUE=DATE:20210529
DTSTAMP:20260421T220314
CREATED:20210320T024734Z
LAST-MODIFIED:20210320T025040Z
UID:3765-1622160000-1622246399@malenysportandrec.org.au
SUMMARY:Maleny Show 2021
DESCRIPTION:It’s back for 2021! All the fun you expect over 2 days for the while family to enjoy. Maleny Show – one of the best shows in Qld! \n\n1-Day Gate Admission (on show days): Adult $15 | Family $30 (2ad/3ch under 15) | Pensioner $10 | Student $10 | Primary School Student $5\n 2-Day Gate Pass: Adult $25 | Family $50\n\n\n\nAnnual Membership: Family $40 (2ad/3chd under 15) | Single Family $25 (1ad/3chd under 15) | Pensioner $15 | Adult $20\n\n\nEnquiries: 54942008  or email the secretary:\n\n\n\n\n\n\n\nmalenyshowsociety@bigpond.com\n\n\n\n\n\n\n  \n\n\n\n\n\n\n\n\n\n 
URL:https://malenysportandrec.org.au/event/maleny-show-2021/
LOCATION:Maleny Showgrounds\, 13 Maleny Stanley River Road\, Maleny\, Qld\, 4552\, Australia
CATEGORIES:community event,Fair,Fund Raiser,Heritage,Tourism
ATTACH;FMTTYPE=image/jpeg:https://malenysportandrec.org.au/wp-content/uploads/2021/03/ferris-wheel-scaled.jpg
END:VEVENT
BEGIN:VEVENT
DTSTART;TZID=Australia/Melbourne:20210515T180000
DTEND;TZID=Australia/Melbourne:20210515T213000
DTSTAMP:20260421T220314
CREATED:20210320T024920Z
LAST-MODIFIED:20210320T024920Z
UID:3761-1621101600-1621114200@malenysportandrec.org.au
SUMMARY:Trivia Night!
DESCRIPTION:General knowledge quiz\, plus music quiz and spot prizes!\n\nMake up a team of 6-8 people\, or individuals\, couples\, etc can be combined to make a team. To book a table go to https://www.trybooking.com/BNZBZ\n\nBYO nibbles –  fully licensed bar\, tea & coffee provided\n\nQuiz Master – Ray Oldfield\nFor Bookings Phone Ray 5499 7791 or email info@rslmaleny.org.au
URL:https://malenysportandrec.org.au/event/trivia-night/
LOCATION:Maleny RSL\, 1 Bunya Street\, Maleny\, Qld\, 4552\, Australia
CATEGORIES:community event,Educational,Fund Raiser
ATTACH;FMTTYPE=image/jpeg:https://malenysportandrec.org.au/wp-content/uploads/2021/03/RSL-Trivia-Night-poster-generic.jpg
END:VEVENT
BEGIN:VEVENT
DTSTART;TZID=Australia/Melbourne:20210507T183000
DTEND;TZID=Australia/Melbourne:20210507T223000
DTSTAMP:20260421T220314
CREATED:20210320T022820Z
LAST-MODIFIED:20210320T022820Z
UID:3756-1620412200-1620426600@malenysportandrec.org.au
SUMMARY:Ray and the Sunshines - Maleny RSL's 90th Birthday Bash
DESCRIPTION:This will be the best dancing in town! A great night of Rock ’n’ Roll and 60’s music and all are welcome to party on at our 90th birthday with us. Rock and sing the night away at the Maleny RSL with Ray and the Sunshines.  Dance or sing along to all your favourites;  the bar will be open from 6.30 pm. Find out why Ray and his Sunshines were mobbed last time around! See you at the RSL\, Maleny’s top night spot. \nEnquiries info@rslmaleny.org.au. or phone us on 5435 2672.
URL:https://malenysportandrec.org.au/event/ray-and-the-sunshines-maleny-rsls-90th-birthday-bash/
LOCATION:Maleny RSL\, 1 Bunya Street\, Maleny\, Qld\, 4552\, Australia
CATEGORIES:community event,Concerts,Dancing,Fund Raiser,Music
ATTACH;FMTTYPE=image/jpeg:https://malenysportandrec.org.au/wp-content/uploads/2021/03/ray-and-the-sunshines-1-scaled.jpg
END:VEVENT
BEGIN:VEVENT
DTSTART;TZID=Australia/Melbourne:20200307T183000
DTEND;TZID=Australia/Melbourne:20200307T223000
DTSTAMP:20260421T220314
CREATED:20200210T213050Z
LAST-MODIFIED:20200210T213050Z
UID:3470-1583605800-1583620200@malenysportandrec.org.au
SUMMARY:Bushfire Relief Benefit Concert
DESCRIPTION:MALENY BUSHFIRE RELIEF BENEFIT CONCERT featuring Shenzo Gregorio\, Andrea Kirwin\, Linsey Pollak\, Lizzie O’Keefe in ‘Dangerous Song’\, Hayden Hack\, Louise King\, Rob Longstaff and ‘Tjupurru\, Efiq & Kitch’. Our MC with be none other than the fabulous Nadia Šunde!\n100% of money raised goes to Bushfire Relief Funds and our own local Firies! Tickets are $50 and are available at the door only (come early). Bar and Food available!
URL:https://malenysportandrec.org.au/event/bushfire-relief-benefit-concert/
LOCATION:Maleny RSL\, 1 Bunya Street\, Maleny\, Qld\, 4552\, Australia
CATEGORIES:community event,Concerts,Fund Raiser,Music
ATTACH;FMTTYPE=image/jpeg:https://malenysportandrec.org.au/wp-content/uploads/2020/02/bushfire-relief-scaled.jpg
END:VEVENT
BEGIN:VEVENT
DTSTART;TZID=Australia/Melbourne:20191231T170000
DTEND;TZID=Australia/Melbourne:20191231T220000
DTSTAMP:20260421T220314
CREATED:20191202T224423Z
LAST-MODIFIED:20191202T224423Z
UID:3287-1577811600-1577829600@malenysportandrec.org.au
SUMMARY:New Year's Eve at Witta Rec Club
DESCRIPTION:Win $10\,000 at Witta on New Year’s Eve! \nWitta Rec Club is once again offering you the chance to win this great cash prize in their 2019 Art Union on New Year’s Eve. Tickets are only $50 each\, and with only 400 being sold\, that’s pretty good odds.  You’ll also have the chance to win back your stake money\, with 10 additional winning tickets being drawn for $50 each!  On the NYE night of the draw\, the bar will be open from around 5.00 pm\, with music from local rock legend Damian Barnes and his band –  and if you are feeling like dinner\,  you can buy a steak or chicken schnitzel and cook it to your liking on the barbie! Salads will be provided to accompany your meal. \nTickets for the Art Union are available at Sommers Fuel\, Imelda’s Shoes for the Soul in Maple Street\, OR at the touch games on Friday nights.  You can also purchase them and join the Witta Rec Club regulars for a drink each Wednesday afternoon\, when the Club Bar is open from 4.30 to 6.30pm.
URL:https://malenysportandrec.org.au/event/new-years-eve-at-witta-rec-club/
LOCATION:Witta Recreation Club\, Witta Sportsgrounds 351 Witta Road\, Witta\, QLD\, Australia
CATEGORIES:community event,Fund Raiser,Music
ATTACH;FMTTYPE=image/jpeg:https://malenysportandrec.org.au/wp-content/uploads/2019/12/witta-rec-art-union-poster-scaled.jpg
END:VEVENT
BEGIN:VEVENT
DTSTART;TZID=Australia/Melbourne:20191103T160000
DTEND;TZID=Australia/Melbourne:20191103T200000
DTSTAMP:20260421T220314
CREATED:20191017T203814Z
LAST-MODIFIED:20191017T203814Z
UID:3175-1572796800-1572811200@malenysportandrec.org.au
SUMMARY:Melbourne Cup Calcutta
DESCRIPTION:Fundraiser for Smart Living Society at Hotel Maleny on Sunday November 3rd. Lots of prizes and cash to be won! \nSmart Living’s members are committed to creating a self-sufficient village community to house individuals and\nfamilies who are suffering from rent stress or who are currently homeless.
URL:https://malenysportandrec.org.au/event/melbourne-cup-calcutta/
LOCATION:Maleny Hotel\, 6\, Bunya Street\, Maleny\, Qld\, 4552\, Australia
CATEGORIES:Fund Raiser
ATTACH;FMTTYPE=application/pdf:https://malenysportandrec.org.au/wp-content/uploads/2019/10/Melbourne-Cup-Calcutta_A4.pdf
END:VEVENT
BEGIN:VEVENT
DTSTART;TZID=Australia/Melbourne:20191013T080000
DTEND;TZID=Australia/Melbourne:20191013T140000
DTSTAMP:20260421T220314
CREATED:20190627T022917Z
LAST-MODIFIED:20190627T022917Z
UID:2900-1570953600-1570975200@malenysportandrec.org.au
SUMMARY:Maleny Handmade Markets
DESCRIPTION:Handmade\, unique\, quirky\nFind something to suit your personality or buy a gift or simply take something home with you that is handmade in Maleny and surrounding areas. \nThe markets give individuals a place to show and sell their handmade goods. A chance to show off their hobbies or share their talents. You are ensured of finding something  “different”. \nLeave the hustle and bustle of the city and the coast and travel to the beautiful serene Sunshine Coast Hinterland. Experience its people and their talents\, stroll the streets and enjoy a coffee and experience our fresh local produce which is served in many cafes. \nWant to sell your wares at the market? Click here!
URL:https://malenysportandrec.org.au/event/maleny-handmade-markets/
LOCATION:Maleny Community Centre\, 23 Maple St\, Maleny\, Qld\, 4552\, Australia
CATEGORIES:Arts & Crafts,community event,Fair,Fund Raiser,Tourism
ATTACH;FMTTYPE=image/jpeg:https://malenysportandrec.org.au/wp-content/uploads/2019/06/handmade-markets.jpg
END:VEVENT
BEGIN:VEVENT
DTSTART;TZID=Australia/Melbourne:20190817T183000
DTEND;TZID=Australia/Melbourne:20190817T220000
DTSTAMP:20260421T220314
CREATED:20190608T213047Z
LAST-MODIFIED:20190608T213047Z
UID:2620-1566066600-1566079200@malenysportandrec.org.au
SUMMARY:Drag Queen Bingo Raising Funds for Motor Neurone Assoc. Qld
DESCRIPTION:In memory of Maleny’s Joyce Newton\, help Jared Ashcroft raise funds for a great cause\, the Motor Neurone Association of Qld by attending this fun show of crazy\, Drag Queen Bingo! \nBook a table by contacting Jared\, bring your friends and family along and have a great night of laughs and bingo. Lucky door prizes\, fancy/best dressed prizes\, spot prizes and much more. \nTickets still available here at the Ticketebo page for this event. \nEntry / Show: $20\nBingo Books: 3 for $5 or 6 for $10 (Bingo books available at the venue on the night.) \nSnack plates available\nPLEASE NOTE: There will be a CASH ONLY bar available\, sorry no BYO. \nThere are no eftpos facilities available on the night. \n18+ event\, contains coarse language\, sexual references\, drag queens behaving badly and may contain traces of nuts! \nAll proceeds from bingo book and raffle sales go direct to the Motor Neurone Disease Fundraiser. If you haven’t yet seen a Melony’s Drag Queen Bingo show\, you shouldn’t miss this. \n  \n  \n 
URL:https://malenysportandrec.org.au/event/drag-queen-bingo-raising-funds-for-motor-neurone-assoc-qld/
LOCATION:Maleny Showgrounds Main Pavilion\, Australia
CATEGORIES:Fund Raiser,Theatre
ATTACH;FMTTYPE=image/jpeg:https://malenysportandrec.org.au/wp-content/uploads/2019/06/drag-queen-bingo.jpg
END:VEVENT
BEGIN:VEVENT
DTSTART;TZID=Australia/Melbourne:20190720T180000
DTEND;TZID=Australia/Melbourne:20190720T230000
DTSTAMP:20260421T220314
CREATED:20190627T012715Z
LAST-MODIFIED:20190627T012715Z
UID:2891-1563645600-1563663600@malenysportandrec.org.au
SUMMARY:Woodstock at Maleny RSL!
DESCRIPTION:A fundraiser for the Divine Divas raising funds to enter the Variety Bash in August. Local bands\, food – and the lovely fellas from the RSL will run the bar!!  Music line up: \nThe Undecided\nNat and jake\nRicoh and the Homegrown Killers\nMy Fur Coat\nA big thank you to these talented local musicians for making this night possible. See you there! \n$20 adults High schoolers $10\, kids are free. \n  \nAll funds raised donated to Variety Queensland – the Children’s Charity.
URL:https://malenysportandrec.org.au/event/woodstock-at-maleny-rsl/
LOCATION:Maleny RSL\, 1 Bunya Street\, Maleny\, Qld\, 4552\, Australia
CATEGORIES:community event,Fund Raiser,Music
ATTACH;FMTTYPE=image/jpeg:https://malenysportandrec.org.au/wp-content/uploads/2019/06/divine-divas.jpg
END:VEVENT
BEGIN:VEVENT
DTSTART;TZID=Australia/Melbourne:20190707T090000
DTEND;TZID=Australia/Melbourne:20190707T133000
DTSTAMP:20260421T220314
CREATED:20190131T154712Z
LAST-MODIFIED:20190424T034307Z
UID:1543-1562490000-1562506200@malenysportandrec.org.au
SUMMARY:Muscle on the Mountain
DESCRIPTION:Cars\, cars and more cars! \nHolden\, HSV\, Ford\, FPV\, Muscle Cars\, Street Machines\, Hotrods\, Vintage & Classic Cars All car clubs welcome! Muscle On The Mountain Show and Shine Day. Sunday 7th July 2019 9am to 1:30pm. Gates open from 7am for setup.  Fun day for all the family and raising awareness of men’s health. APEX BBQ Breakfast from 7:00 am & lunch available. Maleny Show Grounds\, 13 Maleny-Stanley River Road. \nENTRY: $5.00 with under 17’s in for free \nCamping Available $20 a night for a powered site. \nGeneral Enquiries: 0409 489 777 \nContact Lynda. lynda.burgess@icloud.com
URL:https://malenysportandrec.org.au/event/muscle-on-the-mountain/
LOCATION:Maleny Showgrounds\, 13 Maleny Stanley River Road\, Maleny\, Qld\, 4552\, Australia
CATEGORIES:Car Show,Fund Raiser,Tourism
ATTACH;FMTTYPE=image/jpeg:https://malenysportandrec.org.au/wp-content/uploads/2019/02/event-musclemountain-1.jpg
END:VEVENT
BEGIN:VEVENT
DTSTART;TZID=Australia/Melbourne:20190519T083000
DTEND;TZID=Australia/Melbourne:20190519T153000
DTSTAMP:20260421T220314
CREATED:20190501T025732Z
LAST-MODIFIED:20190501T202521Z
UID:2548-1558254600-1558279800@malenysportandrec.org.au
SUMMARY:RSPCA Million Paws Walk and Apex Paws of Thunder Dog Races!
DESCRIPTION:Please join us with your dogs on the main oval at the Maleny Showgrounds for the Maleny RSPCA Million Paws Walk!! \nWalk registration starts 8.30am and the walk starts 9am. The walk will begin at the main oval\, around to Coral St\, then onto the Obi Creek Boardwalk and back to the main oval. \nAND The fun continues after the walk!! There will be a dog fancy dress competition with great prizes! We look forward to seeing all your doggy designs. \nThis will be followed by the Paws of Thunder Dog Races!! The races are:\n-Tiny Tackers (any dog under 10kg)\n– Older dogs (dogs over 10yrs)\n– Canine Cup (working dogs)\n– Fastest Dog on the Hill (all other dogs).\nEach dog can enter only one race category. There will be more great prizes! \nThere will also be a jumping castle\, grooming info\, Allira Batestone Pet Photography\, WILVOs stall and a craft stall. \nThe River School\, Maleny Apex Club and Maleny Coffee Stop will be providing delicious food and drinks.
URL:https://malenysportandrec.org.au/event/rspca-million-paws-walk-and-paws-of-thunder-dog-races/
LOCATION:Maleny Showgrounds\, 13 Maleny Stanley River Road\, Maleny\, Qld\, 4552\, Australia
CATEGORIES:Fund Raiser,Tourism
ATTACH;FMTTYPE=image/jpeg:https://malenysportandrec.org.au/wp-content/uploads/2019/05/million-paws-walk.jpg
END:VEVENT
BEGIN:VEVENT
DTSTART;TZID=Australia/Melbourne:20190509T090000
DTEND;TZID=Australia/Melbourne:20190509T120000
DTSTAMP:20260421T220314
CREATED:20190314T034540Z
LAST-MODIFIED:20190314T034540Z
UID:2174-1557392400-1557403200@malenysportandrec.org.au
SUMMARY:Fashions and Flowers Morning Tea
DESCRIPTION:The Maleny Hospital Auxiliary is conducting its “Fashion and Flowers Morning Tea” on Thursday 9 May at the Showgrounds Pavilion.  The ladies fashions from Simply Stylish Fashion & Lingerie will be complemented by men’s wear from Maleny Men Fashion & Stuff.  Imelda’s Shoes on Maple will show their new range for the coming season.  A delicious morning tea will be served followed by the drawing of raffles and other prizes.  Proceeds will benefit our local Maleny Soldiers Memorial Hospital. \nCost: $30\, this includes a delicious morning tea\, a fashion parade and $10 worth of Raffle Tickets! \nWhere to purchase tickets: contact Louise Hickey lp.hickey1@bigpond.com
URL:https://malenysportandrec.org.au/event/fashions-and-flowers-morning-tea/
LOCATION:Maleny Showgrounds Main Pavilion\, Australia
CATEGORIES:Fashion,Fund Raiser
ATTACH;FMTTYPE=image/jpeg:https://malenysportandrec.org.au/wp-content/uploads/2019/03/Fashions-and-flowers.jpg
END:VEVENT
BEGIN:VEVENT
DTSTART;TZID=Australia/Melbourne:20190405T063000
DTEND;TZID=Australia/Melbourne:20190405T213000
DTSTAMP:20260421T220314
CREATED:20190320T225556Z
LAST-MODIFIED:20190320T225556Z
UID:2308-1554445800-1554499800@malenysportandrec.org.au
SUMMARY:CHASM Fundraiser Melony's Drag Queen Bingo
DESCRIPTION: ​THE CHASM HOUSING VISION\n“We envisage a compassionate and sustainable community where everyone has a home they can afford.”\nCHASM Housing is a Queensland-based community organisation that advocates for affordable housing solutions in  the Sunshine Coast Hinterland. \nCHASM Housing\, in partnership with the Maleny Neighbourhood Centre (MNC)\, develops projects and conducts research to help increase the supply of housing that is small\, affordable\, quality\, accessible\, age and environmentally-friendly to enable people to remain living in their neighbourhood of choice. \n\nWe are raising funds for our first build in the Co-op garden.  Join us for this hilarious stage show.\n\nBook tickets: http://www.ticketebo.com.au/melony-b-entertainment-for-chasm/melony-s-drag-queen-bingo-chasm-maleny-fundraiser.html
URL:https://malenysportandrec.org.au/event/chasm-fundraiser-melonys-drag-queen-bingo/
LOCATION:Maleny Showgrounds Main Pavilion\, Australia
CATEGORIES:Concerts,Fund Raiser,Music,Musical,Theatre
ATTACH;FMTTYPE=image/jpeg:https://malenysportandrec.org.au/wp-content/uploads/2019/03/MDQB-CHASM-eFlyer-301118b.jpg
ORGANIZER;CN="CHASM Housing":MAILTO:mailto:chasmhousing@gmail.com
END:VEVENT
BEGIN:VEVENT
DTSTART;TZID=Australia/Melbourne:20190330T130000
DTEND;TZID=Australia/Melbourne:20190330T170000
DTSTAMP:20260421T220314
CREATED:20190320T003817Z
LAST-MODIFIED:20190320T003817Z
UID:2277-1553950800-1553965200@malenysportandrec.org.au
SUMMARY:The Obi Open Golf Day
DESCRIPTION:Join the Maleny Primary School’s P&C for a fun social golf day at the Maleny Golf Club! A fundraiser for the school\, there’s still time to register your team and have a go.\nAll the fun of an Ambrose competition with your team of 4 players playing 12 holes at the beautiful Maleny Golf Club. \nFancy Dress in your best golfing attire definitely the order of the day! \nPrizes for\n\nbest dressed\nnearest the pin\nlongest drive\nand more!\n\n\nEntry fee:   $50 individual or $180 to a team of 4\nRegister your team: call John on 0427 192 123 \n\n\nMeet at 1pm for 2pm start at the Maleny Golf Club Porters Lane\, North Maleny\n\n\nThe Maleny P&C invite you to have a go and help them raise funds for the school at their community golf day!
URL:https://malenysportandrec.org.au/event/the-obi-open-golf-day/
LOCATION:Maleny Golf Club\, 15 Porters Lane\, Maleny\, Qld\, 4552\, Australia
CATEGORIES:Fashion,Fund Raiser,Sport
ATTACH;FMTTYPE=image/jpeg:https://malenysportandrec.org.au/wp-content/uploads/2019/03/Obi-Open-Poster-rev-2.jpg
END:VEVENT
BEGIN:VEVENT
DTSTART;TZID=Australia/Melbourne:20190330T080000
DTEND;TZID=Australia/Melbourne:20190330T120000
DTSTAMP:20260421T220315
CREATED:20190314T055337Z
LAST-MODIFIED:20190314T055337Z
UID:2189-1553932800-1553947200@malenysportandrec.org.au
SUMMARY:Bake Sale Fundraiser for CHASM
DESCRIPTION:BAKE SALE – HOME BAKED GOODIES\n  \nCHASM Housing is a Queensland-based community organisation that advocates for affordable housing solutions in  the Sunshine Coast Hinterland. \nCHASM Housing\, in partnership with the Maleny Neighbourhood Centre (MNC)\, develops projects and conducts research to help increase the supply of housing that is small\, affordable\, quality\, accessible\, age and environmentally-friendly to enable people to remain living in their neighbourhood of choice. \nWe are fundraising for our first build which will be in the Maleny Co-op Garden which will become a show home for 3 months to show others how affordable housing can be achieved.
URL:https://malenysportandrec.org.au/event/bake-sale-fundraiser-for-chasm/
LOCATION:Maleny Community Kiosk\, 23 Maple Street\, Maleny\, Qld\, 4552\, Australia
CATEGORIES:Fund Raiser
ATTACH;FMTTYPE=image/jpeg:https://malenysportandrec.org.au/wp-content/uploads/2019/03/Bale-sae.jpg
ORGANIZER;CN="CHASM Housing":MAILTO:mailto:chasmhousing@gmail.com
END:VEVENT
END:VCALENDAR